{"text_format":"1","workbook":"xlsx","n_sheets":5,"sheets":["調書１","調書２","調書３","調書３（2葉目）","リスト"],"not_rendered":{"charts":0,"images":0,"macros":1,"external_links":0,"defined_names":5,"comments":0,"pivot_tables":0},"unopened":[],"bounds":{"document_bytes":16777216,"sheet_cells":100000,"rows_first":2000,"rows_last":500,"rows_between":2000,"halvings":0,"cell_chars":16384,"cell_head_chars":4096},"cells_cut":0,"cells_raw":0,"read":"whole","date_system":"1900"}

{"sheet":"調書１","index":0,"n_rows":40,"n_cols":12,"rows_kept":40,"cut":false,"hidden":false,"merged":[[31,10,31,11],[7,0,7,1],[13,0,13,1],[17,0,17,1],[23,10,23,11],[24,10,24,11],[25,10,25,11],[26,10,26,11],[27,10,27,11],[7,7,7,8],[8,7,8,8],[9,7,9,8],[21,2,21,4],[22,2,22,4],[7,5,7,6],[8,5,8,6],[10,2,10,4],[22,5,22,11],[9,0,9,1],[10,0,10,1],[20,5,20,10],[21,5,21,10],[19,7,19,8],[18,7,18,8],[17,7,17,8],[16,7,16,8],[15,7,15,8],[14,7,14,8],[13,7,13,8],[12,7,12,8],[11,7,11,8],[10,7,10,8],[9,5,9,6],[10,5,10,6],[20,0,20,1],[11,5,11,6],[12,5,12,6],[13,5,13,6],[14,5,14,6],[17,5,17,6],[15,5,15,6],[16,5,16,6],[18,5,18,6],[19,5,19,6],[16,0,16,1],[19,0,19,1],[11,2,11,4],[12,2,12,4],[13,3,13,4],[20,2,20,4],[0,0,0,11],[4,0,4,1],[5,0,5,1],[6,0,6,1],[4,7,4,10],[4,5,4,6],[5,5,5,6],[6,5,6,6],[5,7,5,8],[6,7,6,8],[2,7,3,7],[2,8,3,11],[14,0,14,1],[37,4,37,5],[38,4,38,5],[39,4,39,5],[23,3,23,9],[28,3,28,9],[30,3,30,9],[31,3,31,9],[33,4,33,5],[34,4,34,5],[35,4,35,5],[34,8,34,10],[33,8,33,10],[32,8,32,10],[28,10,28,11],[30,10,30,11],[29,10,29,11],[28,0,31,1],[23,0,27,1],[32,0,39,1],[32,7,39,7],[36,4,36,5],[32,4,32,5],[24,3,24,9],[25,3,25,9],[26,3,26,9],[27,3,27,9],[39,8,39,10],[38,8,38,10],[37,8,37,10],[36,8,36,10],[35,8,35,10],[29,3,29,9]]}
["調書（１）都道府県"]
["(様式３の１)",null,null,null,null,null,null,null,null,null,"2024-11-01","現在"]
["都道府県番号",{"$f":"IF(C4=\"北海道\",1,IF(C4=\"青森県\",2,IF(C4=\"岩手県\",3,IF(C4=\"宮城県\",4,IF(C4=\"秋田県\",5,IF(C4=\"山形県\",6,IF(C4=\"福島県\",7,IF(C4=\"茨城県\",8,IF(C4=\"栃木県\",9,IF(C4=\"群馬県\",10,IF(C4=\"埼玉県\",11,IF(C4=\"千葉県\",12,IF(C4=\"東京都\",13,IF(C4=\"神奈川県\",14,IF(C4=\"新潟県\",15,IF(C4=\"富山県\",16,IF(C4=\"石川県\",17,IF(C4=\"福井県\",18,IF(C4=\"山梨県\",19,IF(C4=\"長野県\",20,IF(C4=\"岐阜県\",21,IF(C4=\"静岡県\",22,IF(C4=\"愛知県\",23,IF(C4=\"三重県\",24,IF(C4=\"滋賀県\",25,IF(C4=\"京都府\",26,IF(C4=\"大阪府\",27,IF(C4=\"兵庫県\",28,IF(C4=\"奈良県\",29,IF(C4=\"和歌山県\",30,IF(C4=\"鳥取県\",31,IF(C4=\"島根県\",32,IF(C4=\"岡山県\",33,IF(C4=\"広島県\",34,IF(C4=\"山口県\",35,IF(C4=\"徳島県\",36,IF(C4=\"香川県\",37,IF(C4=\"愛媛県\",38,IF(C4=\"高知県\",39,IF(C4=\"福岡県\",40,IF(C4=\"佐賀県\",41,IF(C4=\"長崎県\",42,IF(C4=\"熊本県\",43,IF(C4=\"大分県\",44,IF(C4=\"宮崎県\",45,IF(C4=\"鹿児島県\",46,IF(C4=\"沖縄県\",47,\"-\")))))))))))))))))))))))))))))))))))))))))))))))","v":"-"},"推薦都道府県名","職業部門番号",null,"職種名（１）","職種名（２）","氏名・現就業先事業所名の外字"]
[]
["ふりがな",null,null,"性別",null,"職歴",null,"在職期間（年月日）",null,null,null,"在職\n年月数"]
["氏名",null,null,null,null,null,null,null,null,"～",null,{"$f":"IF(ISBLANK(F6),\"\",DATEDIF(H6-DAY(1),K6,\"y\")&\"年\"&DATEDIF(H6-DAY(1),K6,\"ym\")&\"月\")","v":""}]
["生年月日",null,null,"年齢",{"$f":"IF(ISBLANK(C7),\"\",DATEDIF(C7,K2,\"Y\"))","v":""},null,null,null,null,"～",null,{"$f":"IF(ISBLANK(F7),\"\",DATEDIF(H7-DAY(1),K7,\"y\")&\"年\"&DATEDIF(H7-DAY(1),K7,\"ym\")&\"月\")","v":""}]
["現住所",null,null,null,null,null,null,null,null,"～",null,""]
[null,"〒",null,null,null,null,null,null,null,"～",null,""]
["都道府県",null,null,null,null,null,null,null,null,"～",null,""]
["市区町村",null,null,null,null,null,null,null,null,"～",null,""]
[null,null,null,null,null,null,null,null,null,"～",null,""]
[null,"TEL ",null,null,null,null,null,null,null,"～",null,""]
["就業地",null,null,null,null,null,null,null,null,"～",null,""]
["事業所名",null,null,null,null,null,null,null,null,"～",null,""]
[null,null,null,null,null,null,null,null,null,"～",null,""]
["事業所全体の従業員数",null,null,null,null,null,null,null,null,"～",null,""]
["所在地",null,null,null,null,null,null,null,null,"～",null,""]
[null,"〒",null,null,null,null,null,null,null,"～",null,""]
["都道府県",null,null,null,null,null,null,null,null,"～",null,""]
["市区町村",null,null,null,null,"在職期間　計"]
[null,null,null,null,null,"重複期間を除く在職期間　計"]
[null,"TEL ",null,null,null,{"$f":"K2","v":"2024-11-01"}]
["表彰歴",null,"表彰の種類","表彰の概要",null,null,null,null,null,null,"取得年月"]
[null,null,"大臣\n表彰"]
[null,null,"知事・行政機関の\n局長表彰"]
[null,null,"全国レベルの業界\n団体表彰"]
[null,null,"その他"]
["免許・\n資格等",null,"免許の種類","免許・資格等の概要",null,null,null,null,null,null,"取得年月"]
[null,null,"職業訓練指導員免許"]
[null,null,"技能検定委員"]
[null,null,"特許・実用新案等"]
["大会\n入賞歴等",null,null,"認定\n年度","業種",null,"職種","技能検定","技能士の名称",null,null,"取得年月"]
[null,null,"高度熟練技能者"]
[null,null,"ものづくりマイスター"]
[null,null,"全技連マイスター"]
[null,null,null,"開催回","参加職種",null,"順位"]
[null,null,"技能グランプリ"]
[null,null,"技能五輪国際大会入賞歴"]
[null,null,"技能五輪全国大会入賞歴"]

{"sheet":"調書２","index":1,"n_rows":18,"n_cols":9,"rows_kept":18,"cut":false,"hidden":false,"merged":[[0,0,0,8],[5,3,15,3],[4,7,4,8],[5,0,5,2],[10,7,10,8],[3,3,3,4],[3,7,3,8],[4,3,4,4],[8,6,8,8],[9,5,9,8],[11,4,11,8],[15,0,15,1],[12,4,15,8],[13,0,13,1],[14,0,14,1],[16,0,16,8],[18,0,34,2],[18,3,34,5],[18,6,34,7],[18,8,34,8],[17,0,17,2],[17,3,17,5],[17,6,17,7]]}
["調書（２）都道府県"]
[]
["(様式３の１)"]
["都道府県番号","都道府県名","職業部門","職種名（１）",null,"職種名（２）","ふりがな",{"$f":"調書１!C5","v":0}]
[{"$f":"調書１!B3","v":"-"},{"$f":"調書１!C4","v":0},{"$f":"調書１!E3","v":0},{"$f":"調書１!F4","v":0},null,{"$f":"調書１!G4","v":0},"被推薦者氏名",{"$f":"調書１!C6","v":0}]
["過去の５年の推薦回数",null,null,"推薦者及び推薦理由","（所在地又は住所）"]
[null,null,"年度",null,"〒"]
[null,null,"年度",null,"都道府県"]
[null,null,"年度",null,"市区町村"]
[null,null,"年度"]
[null,null,"年度",null,"（推薦都道府県知事名）",null,"TEL"]
["計",null,"回"]
[null,"推薦順位等",null,null,"（推薦理由）"]
["選考対象者総数"]
["推薦総数"]
["推薦順位"]
["卓越した技能の概要"]
["技能の概要",null,null,"功績・貢献の概要",null,null,"後進指導育成の概要",null,"現役性"]

{"sheet":"調書３","index":2,"n_rows":7,"n_cols":9,"rows_kept":7,"cut":false,"hidden":false,"merged":[[0,0,0,8],[3,3,3,4],[3,7,3,8],[4,3,4,4],[4,7,4,8],[7,0,36,2],[7,3,36,5],[7,6,36,7],[7,8,36,8],[5,0,5,8],[6,0,6,2],[6,3,6,5],[6,6,6,7]]}
["調書（３）都道府県"]
[]
["(様式３の１)"]
["都道府県番号","都道府県名","職業部門","職種名（１）",null,"職種名（２）","ふりがな",{"$f":"調書１!C5","v":0}]
[{"$f":"調書１!B3","v":"-"},{"$f":"調書１!C4","v":0},{"$f":"調書１!E3","v":0},{"$f":"調書１!F4","v":0},null,{"$f":"調書１!G4","v":0},"被推薦者氏名",{"$f":"調書１!C6","v":0}]
["卓越した技能の概要（続き）"]
["技能の概要",null,null,"功績・貢献の概要",null,null,"後進指導育成の概要",null,"現役性"]

{"sheet":"調書３（2葉目）","index":3,"n_rows":7,"n_cols":9,"rows_kept":7,"cut":false,"hidden":false,"merged":[[5,0,5,8],[6,0,6,2],[6,3,6,5],[6,6,6,7],[7,0,36,2],[7,3,36,5],[7,6,36,7],[7,8,36,8],[0,0,0,8],[3,3,3,4],[3,7,3,8],[4,3,4,4],[4,7,4,8]]}
["調書（３）都道府県"]
[]
["(様式３の１)"]
["都道府県番号","都道府県名","職業部門","職種名（１）",null,"職種名（２）","ふりがな",{"$f":"調書１!C5","v":0}]
[{"$f":"調書１!B3","v":"-"},{"$f":"調書１!C4","v":0},{"$f":"調書１!E3","v":0},{"$f":"調書１!F4","v":0},null,{"$f":"調書１!G4","v":0},"被推薦者氏名",{"$f":"調書１!C6","v":0}]
["卓越した技能の概要（続き）"]
["技能の概要",null,null,"功績・貢献の概要",null,null,"後進指導育成の概要",null,"現役性"]

{"sheet":"リスト","index":4,"n_rows":54,"n_cols":38,"rows_kept":54,"cut":false,"hidden":true,"merged":[]}
["性別","都道府県番号","都道府県名","部門別番号","選択肢"]
["男",1,"北海道",1,"○"]
["女",2,"青森県",2]
[null,3,"岩手県",3]
[null,4,"宮城県",4]
[null,5,"秋田県",5]
[null,6,"山形県",6]
[null,7,"福島県",7]
[null,8,"茨城県",8]
[null,9,"栃木県",9]
[null,10,"群馬県",10]
[null,11,"埼玉県",11]
[null,12,"千葉県",12]
[null,13,"東京都",13]
[null,14,"神奈川県",14]
[null,15,"新潟県",15]
[null,16,"富山県",16]
[null,17,"石川県",17]
[null,18,"福井県",18]
[null,19,"山梨県",19]
[null,20,"長野県",20]
[null,21,"岐阜県",21]
[null,22,"静岡県"]
[null,23,"愛知県"]
[null,24,"三重県"]
[null,25,"滋賀県"]
[null,26,"京都府"]
[null,27,"大阪府"]
[null,28,"兵庫県"]
[null,29,"奈良県"]
[null,30,"和歌山県"]
[null,31,"鳥取県"]
[null,32,"島根県"]
[null,33,"岡山県"]
[null,34,"広島県"]
[null,35,"山口県"]
[null,36,"徳島県"]
[null,37,"香川県"]
[null,38,"愛媛県"]
[null,39,"高知県"]
[null,40,"福岡県"]
[null,41,"佐賀県"]
[null,42,"長崎県"]
[null,43,"熊本県"]
[null,44,"大分県"]
[null,45,"宮崎県"]
[null,46,"鹿児島県"]
[null,47,"沖縄県"]
[]
[]
[]
["部門番号","氏名","かな","外字","備考","性別","生年月日（YYYY/MM/DD）","年齢","推薦区分","都道府県番号","都道府県・団体名・推薦者氏名","都道府県内推薦順位","職種１","職種２","都道府県番号","就業地","所属①","所属②","事業所全体の従業員数","企業規模","過去\n推薦\n回数","過去５年\n補選","大臣\n表彰","知事・行政\n機関の局長\n表彰","全国レベルの\n業界団体\n表彰","その他","高度熟練\n技能者","ものづくり\nマイスター","全技連\nマイスター","技能\nグランプリ","技能五輪\n国際大会","技能五輪\n全国大会","職業訓練\n指導員免許","技能検定\n委員","特許・実用新案等","１級","２級","その他"]
[{"$f":"調書１!E3","v":0},{"$f":"調書１!C6","v":0},{"$f":"調書１!C5","v":0},{"$f":"IF(ISBLANK(調書１!I3),\"\",調書１!I3)","v":""},null,{"$f":"調書１!E5","v":0},{"$f":"調書１!C7","v":0},null,"都道府県",{"$f":"調書１!B3","v":"-"},{"$f":"調書１!C4","v":0},{"$f":"調書２!C16","v":0},{"$f":"調書１!F4","v":0},{"$f":"調書１!G4","v":0},null,{"$f":"調書１!C10","v":0},{"$f":"調書１!C15","v":0},{"$f":"IF(ISBLANK(調書１!C16),\"\",調書１!C16)","v":""},{"$f":"調書１!C17","v":0},null,{"$f":"調書２!B12","v":0},null,{"$f":"IF(ISBLANK(調書１!#REF!),\"\",調書１!#REF!)","v":{"$error":"#REF!"}},{"$f":"IF(ISBLANK(調書１!#REF!),\"\",調書１!#REF!)","v":{"$error":"#REF!"}},{"$f":"IF(ISBLANK(調書１!#REF!),\"\",調書１!#REF!)","v":{"$error":"#REF!"}},{"$f":"IF(ISBLANK(調書１!#REF!),\"\",調書１!#REF!)","v":{"$error":"#REF!"}},{"$f":"IF(ISBLANK(調書１!D34),\"\",\"○\")","v":""},{"$f":"IF(ISBLANK(調書１!D35),\"\",\"○\")","v":""},{"$f":"IF(ISBLANK(調書１!D36),\"\",\"○\")","v":""},{"$f":"IF(ISBLANK(調書１!G38),\"\",調書１!G38)","v":""},{"$f":"IF(ISBLANK(調書１!G39),\"\",調書１!G39)","v":""},{"$f":"IF(ISBLANK(調書１!G40),\"\",調書１!G40)","v":""},{"$f":"IF(ISBLANK(調書１!#REF!),\"\",調書１!#REF!)","v":{"$error":"#REF!"}},{"$f":"IF(ISBLANK(調書１!#REF!),\"\",調書１!#REF!)","v":{"$error":"#REF!"}},{"$f":"IF(ISBLANK(調書１!#REF!),\"\",調書１!#REF!)","v":{"$error":"#REF!"}},{"$f":"IF(COUNTIF(調書１!I34:I40,\"*一級*\"),\"○\",\"\")","v":""},{"$f":"IF(COUNTIF(調書１!I34:I40,\"*二級*\"),\"○\",\"\")","v":""}]
[null,null,null,null,"手打ち",null,null,"自動",null,null,null,null,null,null,"手打ち",null,null,null,null,"自動",null,"手打ち",null,null,null,null,null,null,null,null,null,null,null,null,null,null,null,"手打ち"]